BEGIN:VCALENDAR
VERSION:2.0
CALSCALE:GREGORIAN
METHOD:REQUEST
BEGIN:VEVENT
UID:664f14b32793c
DTSTART:20240620T093000Z
DTEND:20240620T101500Z
DTSTAMP:20240523T120435Z
ORGANIZER;CN= :mailto:ana.bastos@ceo-vision.com
ATTENDEE;PARTSTAT=NEEDS-ACTION;RSVP=TRUE;CN=Christopher Potter;X-NUM-GUEST
 S=0:mailto:christopher.potter@ceo-vision.com
ATTENDEE;PARTSTAT=NEEDS-ACTION;RSVP=TRUE;CN=Arthur Alexandre;X-NUM-GUESTS=
 0:mailto:arthur.alexandre@ceo-vision.com
ATTENDEE;PARTSTAT=NEEDS-ACTION;RSVP=TRUE;CN=Abrakia Abasse;X-NUM-GUESTS=0:
 mailto:abrakia.abasse@ceo-vision.com
ATTENDEE;PARTSTAT=NEEDS-ACTION;RSVP=TRUE;CN=Ana Bastos Freitas;X-NUM-GUEST
 S=0:mailto:ana.bastos@ceo-vision.com
DESCRIPTION:URL: https://gofast-comm.ceo-vision.com/jitsi-meet/webinargofa
 stvsteamsquellesolutionpermetdetravaillerleplusefficacement227386#userInfo
 .displayName=%22%22&userInfo.email=%22ana.bastos%40ceo-vision.com%22   URL
  ALTERNATIVE: https://meet.jit.si/webinargofastvsteamsquellesolutionpermet
 detravaillerleplusefficacement227386#userInfo.displayName=%22%22&userInfo.
 email=%22ana.bastos%40ceo-vision.com%22\n\nAu Programme :- Cas d'usage con
 cret et comparaison détaillée de Microsoft Teams VS GoFAST- Une interventi
 on de monsieur Thomas Pagbe, Responsable éditorial chez IT for Business !-
  Session de questions-réponses en direct
LAST-MODIFIED:20240523T120435Z
LOCATION:100% Visioconférence souveraine
SUMMARY:WEBINAR - GoFAST VS TEAMS, quelle solution permet de travailler le
  plus efficacement
SEQUENCE:0
X-MICROSOFT-CDO-APPT-SEQUENCE:0
STATUS:TENTATIVE
TRANSP:OPAQUE
URL:https://gofast-comm.ceo-vision.com/jitsi-meet/webinargofastvsteamsquel
 lesolutionpermetdetravaillerleplusefficacement227386#userInfo.displayName=
 %22%22&userInfo.email=%22ana.bastos%40ceo-vision.com%22  https://meet.jit.
 si/webinargofastvsteamsquellesolutionpermetdetravaillerleplusefficacement2
 27386#userInfo.displayName=%22%22&userInfo.email=%22ana.bastos%40ceo-visio
 n.com%22
END:VEVENT
END:VCALENDAR

